BEGIN:VCALENDAR
VERSION:2.0
PRODID:-//Sherbourne Health - ECPv6.15.20//NONSGML v1.0//EN
CALSCALE:GREGORIAN
METHOD:PUBLISH
X-WR-CALNAME:Sherbourne Health
X-ORIGINAL-URL:https://sherbourne.on.ca
X-WR-CALDESC:Events for Sherbourne Health
REFRESH-INTERVAL;VALUE=DURATION:PT1H
X-Robots-Tag:noindex
X-PUBLISHED-TTL:PT1H
BEGIN:VTIMEZONE
TZID:America/Toronto
BEGIN:DAYLIGHT
TZOFFSETFROM:-0500
TZOFFSETTO:-0400
TZNAME:EDT
DTSTART:20250309T070000
END:DAYLIGHT
BEGIN:STANDARD
TZOFFSETFROM:-0400
TZOFFSETTO:-0500
TZNAME:EST
DTSTART:20251102T060000
END:STANDARD
BEGIN:DAYLIGHT
TZOFFSETFROM:-0500
TZOFFSETTO:-0400
TZNAME:EDT
DTSTART:20260308T070000
END:DAYLIGHT
BEGIN:STANDARD
TZOFFSETFROM:-0400
TZOFFSETTO:-0500
TZNAME:EST
DTSTART:20261101T060000
END:STANDARD
BEGIN:DAYLIGHT
TZOFFSETFROM:-0500
TZOFFSETTO:-0400
TZNAME:EDT
DTSTART:20270314T070000
END:DAYLIGHT
BEGIN:STANDARD
TZOFFSETFROM:-0400
TZOFFSETTO:-0500
TZNAME:EST
DTSTART:20271107T060000
END:STANDARD
END:VTIMEZONE
BEGIN:VEVENT
DTSTART;TZID=America/Toronto:20260427T130000
DTEND;TZID=America/Toronto:20260427T150000
DTSTAMP:20260425T105106
CREATED:20240808T181237Z
LAST-MODIFIED:20250806T210805Z
UID:10006597-1777294800-1777302000@sherbourne.on.ca
SUMMARY:Hep C Continuing Care Group
DESCRIPTION:For people who have completed Hep C treatment through the Toronto Community Hep C Program and want to continue building community and ways of knowing with peers. Internal referrals only.
URL:https://sherbourne.on.ca/calendar/hep-c-continuing-care-group/2026-04-27/
LOCATION:Sherbourne Health\, Second Floor\, 333 Sherbourne Street\, Toronto\, Ontario\, M5A 2S5\, Canada
CATEGORIES:Registration Required
ATTACH;FMTTYPE=image/png:https://sherbourne.on.ca/wp-content/uploads/2024/08/Hep-C-continuing-care-group-thumbnail.png
END:VEVENT
BEGIN:VEVENT
DTSTART;TZID=America/Toronto:20260427T130000
DTEND;TZID=America/Toronto:20260427T160000
DTSTAMP:20260425T105106
CREATED:20240808T142843Z
LAST-MODIFIED:20260129T223645Z
UID:10003305-1777294800-1777305600@sherbourne.on.ca
SUMMARY:STASH
DESCRIPTION:A welcoming drop in for people who use drugs. STASH provides Hep C testing\, naloxone training\, harm reduction supplies\, support\, referrals\, friendly chats\, and snacks. All people who use drugs are welcome. Please note the STASH room capacity of three people at a time. \n\n\n\nDrop in\, no appointment needed. For information\, contact Jenn at 416-324-4100 ext 3317. \n 
URL:https://sherbourne.on.ca/calendar/stash-3/2026-04-27/
LOCATION:STASH (Room 1080)
CATEGORIES:Drop-in
ATTACH;FMTTYPE=image/png:https://sherbourne.on.ca/wp-content/uploads/2024/08/5.png
END:VEVENT
BEGIN:VEVENT
DTSTART;TZID=America/Toronto:20260427T130000
DTEND;TZID=America/Toronto:20260427T160000
DTSTAMP:20260425T105106
CREATED:20250404T022010Z
LAST-MODIFIED:20251209T214839Z
UID:10010106-1777294800-1777305600@sherbourne.on.ca
SUMMARY:C4U Drop-In
DESCRIPTION:Connections 4 U Drop-In is for people who are experiencing homelessness\, are underhoused\, or stay in shelters. Access support for reaching goals from system navigators\, on a short-term basis. Self-referrals only.
URL:https://sherbourne.on.ca/calendar/c4u-drop-in-2/2026-04-27/
LOCATION:STASH (Room 1080)
CATEGORIES:Drop-in
ATTACH;FMTTYPE=image/png:https://sherbourne.on.ca/wp-content/uploads/2024/08/4.png
END:VEVENT
BEGIN:VEVENT
DTSTART;TZID=America/Toronto:20260427T150000
DTEND;TZID=America/Toronto:20260427T160000
DTSTAMP:20260425T105106
CREATED:20240801T163933Z
LAST-MODIFIED:20250730T193236Z
UID:10002250-1777302000-1777305600@sherbourne.on.ca
SUMMARY:NADA Circle
DESCRIPTION:Drop-in ear acupuncture based on NADA\, an ear acupuncture protocol that may help with withdrawal symptoms\, trauma coping\, anxiety\, depression\, and overall grounding. \nAvailable for all interested Sherbourne Health clients. NADA Circle runs Mondays from 3 – 4 p.m. and Fridays from 9:30 – 10:30 a.m. \nNo appointment necessary\, but pre-booking is welcome. To learn more or to pre-book\, please speak to your Sherbourne Health care provider or a medical secretary.
URL:https://sherbourne.on.ca/calendar/nada-circle/2026-04-27/
LOCATION:First Floor
CATEGORIES:Drop-in
ATTACH;FMTTYPE=image/png:https://sherbourne.on.ca/wp-content/uploads/2024/08/3.png
END:VEVENT
BEGIN:VEVENT
DTSTART;TZID=America/Toronto:20260427T173000
DTEND;TZID=America/Toronto:20260427T193000
DTSTAMP:20260425T105106
CREATED:20260106T213620Z
LAST-MODIFIED:20260106T213620Z
UID:10012931-1777311000-1777318200@sherbourne.on.ca
SUMMARY:Resilient Roots
DESCRIPTION:Resilient Roots is a 10-week program for Black 2SLGBTQ+ youth (29 and under) with lived substance use and mental health experience. \n\nExplore harm reduction tools and self-care habits\nDiscuss mental health in a supportive group setting\nGain skills providing peer support\n\nWho: Black\, Caribbean\, African\, and/or multiracial 2SLGBTQ+ youth (29 and under). \nWhen: Mondays\, February 23 to April 27\, from 5:30 to 7:30 p.m. \nTo join\, please fill out the registration form.
URL:https://sherbourne.on.ca/calendar/resilient-roots-2/2026-04-27/
ORGANIZER;CN="Supporting Our Youth":MAILTO:communityprograms@sherbourne.on.ca
END:VEVENT
BEGIN:VEVENT
DTSTART;TZID=America/Toronto:20260427T180000
DTEND;TZID=America/Toronto:20260427T193000
DTSTAMP:20260425T105106
CREATED:20260407T150511Z
LAST-MODIFIED:20260407T150512Z
UID:10013252-1777312800-1777318200@sherbourne.on.ca
SUMMARY:SOY JOY
DESCRIPTION:SOY JOY is a Supporting Our Youth (SOY) weekly drop-in group for all 2SLGBTQ+ youth (29 and under). We explore coping strategies\, life skills and important community connections in a joyful and engaging environment.\n\nWho: For all 2SLGBTQ+ youth\, 29 and under.\n\nWhen: Mondays\, 6 to 7:30 p.m.
URL:https://sherbourne.on.ca/calendar/soy-joy-2/2026-04-27/
LOCATION:Sherbourne Health\, Second Floor\, 333 Sherbourne Street\, Toronto\, Ontario\, M5A 2S5\, Canada
CATEGORIES:Drop-in,SOY
ORGANIZER;CN="Supporting Our Youth":MAILTO:communityprograms@sherbourne.on.ca
END:VEVENT
BEGIN:VEVENT
DTSTART;TZID=America/Toronto:20260427T180000
DTEND;TZID=America/Toronto:20260427T200000
DTSTAMP:20260425T105106
CREATED:20251222T213226Z
LAST-MODIFIED:20260106T214335Z
UID:10012796-1777312800-1777320000@sherbourne.on.ca
SUMMARY:SOY Lead
DESCRIPTION:SOY Lead is a peer leadership program for 2SLGBTQ+ youth (29 and under) where participants develop skills and gain hands-on experience in peer support\, leadership and community building. \nDevelop skills in: \n\ncommunity care and social justice\ntrauma-informed support\none-on-one peer support\nhealth promotion\narts-based programming\ngroup facilitation\n\nParticipants also take part in a supervised practicum\, giving them the chance to practice these skills in real community settings. \nEveryone selected receives a weekly honorarium\, dinner and TTC fare for each session. Sessions are co-led by alumni of the SOY Lead program. \nTo be considered for the program\, please submit an application by Monday\, January 19.
URL:https://sherbourne.on.ca/calendar/soy-lead/2026-04-27/
LOCATION:Sherbourne Health\, 333 Sherbourne St\, Toronto\, Select\, M5A 2B7\, Canada
CATEGORIES:SOY
ORGANIZER;CN="Supporting Our Youth":MAILTO:communityprograms@sherbourne.on.ca
END:VEVENT
BEGIN:VEVENT
DTSTART;TZID=America/Toronto:20260428T130000
DTEND;TZID=America/Toronto:20260428T160000
DTSTAMP:20260425T105106
CREATED:20240808T142843Z
LAST-MODIFIED:20260129T223645Z
UID:10003306-1777381200-1777392000@sherbourne.on.ca
SUMMARY:STASH
DESCRIPTION:A welcoming drop in for people who use drugs. STASH provides Hep C testing\, naloxone training\, harm reduction supplies\, support\, referrals\, friendly chats\, and snacks. All people who use drugs are welcome. Please note the STASH room capacity of three people at a time. \n\n\n\nDrop in\, no appointment needed. For information\, contact Jenn at 416-324-4100 ext 3317. \n 
URL:https://sherbourne.on.ca/calendar/stash-3/2026-04-28/
LOCATION:STASH (Room 1080)
CATEGORIES:Drop-in
ATTACH;FMTTYPE=image/png:https://sherbourne.on.ca/wp-content/uploads/2024/08/5.png
END:VEVENT
BEGIN:VEVENT
DTSTART;TZID=America/Toronto:20260428T130000
DTEND;TZID=America/Toronto:20260428T160000
DTSTAMP:20260425T105106
CREATED:20250404T022010Z
LAST-MODIFIED:20251209T214839Z
UID:10010107-1777381200-1777392000@sherbourne.on.ca
SUMMARY:C4U Drop-In
DESCRIPTION:Connections 4 U Drop-In is for people who are experiencing homelessness\, are underhoused\, or stay in shelters. Access support for reaching goals from system navigators\, on a short-term basis. Self-referrals only.
URL:https://sherbourne.on.ca/calendar/c4u-drop-in-2/2026-04-28/
LOCATION:STASH (Room 1080)
CATEGORIES:Drop-in
ATTACH;FMTTYPE=image/png:https://sherbourne.on.ca/wp-content/uploads/2024/08/4.png
END:VEVENT
BEGIN:VEVENT
DTSTART;TZID=America/Toronto:20260428T180000
DTEND;TZID=America/Toronto:20260428T193000
DTSTAMP:20260425T105106
CREATED:20230130T215232Z
LAST-MODIFIED:20250426T164138Z
UID:10000364-1777399200-1777404600@sherbourne.on.ca
SUMMARY:Mature Trans Sisters (MTS)
DESCRIPTION:An in-person weekly drop-in program for trans women and femme identified non-binary folks ages 30 and up. The program is designed to build community through facilitated conversation\, group activities\, and social connection. A mental health counsellor is available during sessions for one-on-one support. \n\n\n\nInitial registration is required for this program. To register: email communityprograms@sherbourne.on.ca or fill in our registration form. \n\n\n\n\n\n\n\n\n 
URL:https://sherbourne.on.ca/calendar/mature-trans-sisters-mts/2026-04-28/
LOCATION:Sherbourne Health\, Second Floor\, 333 Sherbourne Street\, Toronto\, Ontario\, M5A 2S5\, Canada
CATEGORIES:Drop-in
ATTACH;FMTTYPE=image/png:https://sherbourne.on.ca/wp-content/uploads/2023/01/10.png
ORGANIZER;CN="Trans & Non-Binary Programs":MAILTO:communityprograms@sherbourne.on.ca
END:VEVENT
BEGIN:VEVENT
DTSTART;TZID=America/Toronto:20260428T180000
DTEND;TZID=America/Toronto:20260428T193000
DTSTAMP:20260425T105106
CREATED:20230207T162840Z
LAST-MODIFIED:20250528T152306Z
UID:10002772-1777399200-1777404600@sherbourne.on.ca
SUMMARY:SOY: Trans Fusion Crew
DESCRIPTION:Trans Fusion Crew is a weekly drop-in group for trans\, gender non-binary or genderqueer youth 29 years old or younger. \nJoin TFC to explore\, learn about and share experiences of gender and everything else. TFC is a welcoming and supportive space for all your different trans and non-binary gender experiences. 
URL:https://sherbourne.on.ca/calendar/soy-trans-fusion-crew/2026-04-28/
LOCATION:Sherbourne Health\, Second Floor\, 333 Sherbourne Street\, Toronto\, Ontario\, M5A 2S5\, Canada
CATEGORIES:Drop-in,SOY
ATTACH;FMTTYPE=image/png:https://sherbourne.on.ca/wp-content/uploads/2023/02/14.png
ORGANIZER;CN="Supporting Our Youth":MAILTO:communityprograms@sherbourne.on.ca
END:VEVENT
BEGIN:VEVENT
DTSTART;TZID=America/Toronto:20260429T091500
DTEND;TZID=America/Toronto:20260429T110000
DTSTAMP:20260425T105106
CREATED:20251217T195420Z
LAST-MODIFIED:20251217T195420Z
UID:10012538-1777454100-1777460400@sherbourne.on.ca
SUMMARY:WINK: Women in Need ‘Klinik’
DESCRIPTION:Come for a nutritious breakfast\, social activities and if you need\, on-the-spot care from a nurse practitioner in a friendly space. \nAll women who are homeless\, sex workers\, street-involved\, and/or use drugs are welcome. \n\n\n\nNo registration required. Contact for more information.
URL:https://sherbourne.on.ca/calendar/wink-women-in-need-klinik-2/2026-04-29/
LOCATION:Sherbourne Health\, Second Floor\, 333 Sherbourne Street\, Toronto\, Ontario\, M5A 2S5\, Canada
CATEGORIES:Drop-in
ATTACH;FMTTYPE=image/png:https://sherbourne.on.ca/wp-content/uploads/2023/01/18.png
ORGANIZER;CN="WINK":MAILTO:communityprograms@sherbourne.on.ca
END:VEVENT
BEGIN:VEVENT
DTSTART;TZID=America/Toronto:20260429T100000
DTEND;TZID=America/Toronto:20260429T120000
DTSTAMP:20260425T105106
CREATED:20240808T181335Z
LAST-MODIFIED:20241220T143156Z
UID:10006857-1777456800-1777464000@sherbourne.on.ca
SUMMARY:Hep C Treatment Group
DESCRIPTION:A weekly drop-in breakfast and harm reduction space for people who need Hep C testing or who live with Hep C. Join us to build community and share learning with others while doing treatment. Self and community referrals welcome. \nPeople who are Hep C negative are encouraged to contact us to inquire about other community resources.
URL:https://sherbourne.on.ca/calendar/hep-c-treatment-group-2/2026-04-29/
LOCATION:Sherbourne Health\, Second Floor\, 333 Sherbourne Street\, Toronto\, Ontario\, M5A 2S5\, Canada
CATEGORIES:Drop-in
ATTACH;FMTTYPE=image/png:https://sherbourne.on.ca/wp-content/uploads/2024/08/Hep-C-treatment-group-thumbnail.png
END:VEVENT
BEGIN:VEVENT
DTSTART;TZID=America/Toronto:20260429T130000
DTEND;TZID=America/Toronto:20260429T160000
DTSTAMP:20260425T105106
CREATED:20240808T142843Z
LAST-MODIFIED:20260129T223645Z
UID:10003307-1777467600-1777478400@sherbourne.on.ca
SUMMARY:STASH
DESCRIPTION:A welcoming drop in for people who use drugs. STASH provides Hep C testing\, naloxone training\, harm reduction supplies\, support\, referrals\, friendly chats\, and snacks. All people who use drugs are welcome. Please note the STASH room capacity of three people at a time. \n\n\n\nDrop in\, no appointment needed. For information\, contact Jenn at 416-324-4100 ext 3317. \n 
URL:https://sherbourne.on.ca/calendar/stash-3/2026-04-29/
LOCATION:STASH (Room 1080)
CATEGORIES:Drop-in
ATTACH;FMTTYPE=image/png:https://sherbourne.on.ca/wp-content/uploads/2024/08/5.png
END:VEVENT
BEGIN:VEVENT
DTSTART;TZID=America/Toronto:20260429T130000
DTEND;TZID=America/Toronto:20260429T160000
DTSTAMP:20260425T105106
CREATED:20250404T022010Z
LAST-MODIFIED:20251209T214839Z
UID:10010108-1777467600-1777478400@sherbourne.on.ca
SUMMARY:C4U Drop-In
DESCRIPTION:Connections 4 U Drop-In is for people who are experiencing homelessness\, are underhoused\, or stay in shelters. Access support for reaching goals from system navigators\, on a short-term basis. Self-referrals only.
URL:https://sherbourne.on.ca/calendar/c4u-drop-in-2/2026-04-29/
LOCATION:STASH (Room 1080)
CATEGORIES:Drop-in
ATTACH;FMTTYPE=image/png:https://sherbourne.on.ca/wp-content/uploads/2024/08/4.png
END:VEVENT
BEGIN:VEVENT
DTSTART;TZID=America/Toronto:20260429T133000
DTEND;TZID=America/Toronto:20260429T153000
DTSTAMP:20260425T105106
CREATED:20251210T160210Z
LAST-MODIFIED:20251210T160211Z
UID:10008370-1777469400-1777476600@sherbourne.on.ca
SUMMARY:Trans Care Clinic
DESCRIPTION:Please Note: Intakes for the Trans Care Clinic are on hold until further notice. \nThis weekly clinic offers gender-affirming care and system navigation supports to people who are homeless\, underhoused\, or stay in shelters. No OHIP required\, limited spots available.
URL:https://sherbourne.on.ca/calendar/trans-care-clinic-2-2-2/2026-04-29/
LOCATION:First Floor
CATEGORIES:Drop-in
ATTACH;FMTTYPE=image/png:https://sherbourne.on.ca/wp-content/uploads/2024/08/9.png
END:VEVENT
BEGIN:VEVENT
DTSTART;TZID=America/Toronto:20260429T180000
DTEND;TZID=America/Toronto:20260429T193000
DTSTAMP:20260425T105106
CREATED:20230207T163806Z
LAST-MODIFIED:20251217T173127Z
UID:10012281-1777485600-1777491000@sherbourne.on.ca
SUMMARY:SOY: Black Queer Youth
DESCRIPTION:Black Queer Youth (BQY) is a weekly drop-in group where we celebrate Black\, Caribbean\, African or multiracial queer and trans spectrum youth’s experiences and accomplishments. It is a space for youth aged 29 or under who live in Toronto\, especially downtown\, in the Jane-Finch/Black Creek or Malvern/Scarborough communities. \n\nExplore what gender or (a)sexuality means to you.\nConnect to Afro-centric health and wellness supports.\nShare skills and talents with peers and group mentors.\nFind support to achieve your short and long term goals.\nFood and TTC tokens provided.\n\n\n  \n\n  \n 
URL:https://sherbourne.on.ca/calendar/soy-black-queer-youth-2/2026-04-29/
LOCATION:Sherbourne Health\, Second Floor\, 333 Sherbourne Street\, Toronto\, Ontario\, M5A 2S5\, Canada
CATEGORIES:Drop-in,SOY
ATTACH;FMTTYPE=image/png:https://sherbourne.on.ca/wp-content/uploads/2023/02/15.png
ORGANIZER;CN="Supporting Our Youth":MAILTO:communityprograms@sherbourne.on.ca
END:VEVENT
BEGIN:VEVENT
DTSTART;TZID=America/Toronto:20260429T180000
DTEND;TZID=America/Toronto:20260429T193000
DTSTAMP:20260425T105106
CREATED:20260408T174430Z
LAST-MODIFIED:20260408T174430Z
UID:10013299-1777485600-1777491000@sherbourne.on.ca
SUMMARY:Navigating Fertility Treatment: Understanding Your Options
DESCRIPTION:Date: Wednesday\, April 29\, 2026 \nTime: 6–7:30 p.m. \nGuest Facilitator: Khalil Ali\, Lead Donor & Surrogacy Coordinator\, Tripod Fertility \nDescription: This workshop will walk participants through the fertility treatment processes commonly available to individuals and couples pursuing family building. The session will outline what to expect at each stage\, including timelines\, procedures and considerations for different pathways. Topics will include fertility preservation (egg or sperm freezing)\, intrauterine insemination (IUI)\, in vitro fertilization (IVF) and reciprocal IVF. The aim is to provide a clear\, step-by-step overview of these options to better understand how different treatment approaches work and what may be involved in each process.
URL:https://sherbourne.on.ca/calendar/navigating-fertility-treatment-understanding-your-options/
LOCATION:VIRTUAL
CATEGORIES:Family Resources
ATTACH;FMTTYPE=image/png:https://sherbourne.on.ca/wp-content/uploads/2024/08/7.png
ORGANIZER;CN="2SLGBTQ+ Family Resources":MAILTO:communityprograms@sherbourne.on.ca
END:VEVENT
BEGIN:VEVENT
DTSTART;TZID=America/Toronto:20260429T180000
DTEND;TZID=America/Toronto:20260429T193000
DTSTAMP:20260425T105106
CREATED:20260415T155330Z
LAST-MODIFIED:20260415T160734Z
UID:10013311-1777485600-1777491000@sherbourne.on.ca
SUMMARY:Trans and Non-Binary Career Connections: The Path to Artistry
DESCRIPTION:Career Mapping\, under the Trans and Non-Binary Career Connections program\, is for trans and non-binary individuals of all ages who want to explore possible career paths. Each session features a guest speaker sharing their journey\, tips and the skills that helped them succeed. We focus on practical\, transferable skills like networking\, resilience and adaptability that can support you in any career.   \nIn this session\, we’ll be joined by Ms. Myles\, a professional makeup artist\, as she shares her journey to becoming a full-time artist. She will offer valuable insights\, industry tips and practical advice for breaking into the world of makeup artistry.
URL:https://sherbourne.on.ca/calendar/trans-and-non-binary-career-connections-the-path-to-artistry/
LOCATION:Sherbourne Health\, 333 Sherbourne St\, Toronto\, Select\, M5A 2B7\, Canada
ATTACH;FMTTYPE=image/png:https://sherbourne.on.ca/wp-content/uploads/2024/08/13-1.png
END:VEVENT
BEGIN:VEVENT
DTSTART;TZID=America/Toronto:20260429T180000
DTEND;TZID=America/Toronto:20260429T200000
DTSTAMP:20260425T105106
CREATED:20251222T213226Z
LAST-MODIFIED:20260106T214335Z
UID:10012797-1777485600-1777492800@sherbourne.on.ca
SUMMARY:SOY Lead
DESCRIPTION:SOY Lead is a peer leadership program for 2SLGBTQ+ youth (29 and under) where participants develop skills and gain hands-on experience in peer support\, leadership and community building. \nDevelop skills in: \n\ncommunity care and social justice\ntrauma-informed support\none-on-one peer support\nhealth promotion\narts-based programming\ngroup facilitation\n\nParticipants also take part in a supervised practicum\, giving them the chance to practice these skills in real community settings. \nEveryone selected receives a weekly honorarium\, dinner and TTC fare for each session. Sessions are co-led by alumni of the SOY Lead program. \nTo be considered for the program\, please submit an application by Monday\, January 19.
URL:https://sherbourne.on.ca/calendar/soy-lead/2026-04-29/
LOCATION:Sherbourne Health\, 333 Sherbourne St\, Toronto\, Select\, M5A 2B7\, Canada
CATEGORIES:SOY
ORGANIZER;CN="Supporting Our Youth":MAILTO:communityprograms@sherbourne.on.ca
END:VEVENT
BEGIN:VEVENT
DTSTART;TZID=America/Toronto:20260430T093000
DTEND;TZID=America/Toronto:20260430T120000
DTSTAMP:20260425T105106
CREATED:20240807T185708Z
LAST-MODIFIED:20260129T223239Z
UID:10005236-1777541400-1777550400@sherbourne.on.ca
SUMMARY:STASH
DESCRIPTION:A welcoming drop in for people who use drugs. STASH provides Hep C testing\, naloxone training\, harm reduction supplies\, support\, referrals\, friendly chats\, and snacks. \nAll people who use drugs are welcome. \n\n\n\nDrop in\, no appointment needed. For information\, contact Jenn at 416-324-4100 ext 3317. \nPlease note the STASH room capacity of three people at a time.
URL:https://sherbourne.on.ca/calendar/stash-2/2026-04-30/
LOCATION:STASH (Room 1080)
CATEGORIES:Drop-in
ATTACH;FMTTYPE=image/png:https://sherbourne.on.ca/wp-content/uploads/2024/08/5.png
END:VEVENT
BEGIN:VEVENT
DTSTART;TZID=America/Toronto:20260430T093000
DTEND;TZID=America/Toronto:20260430T120000
DTSTAMP:20260425T105106
CREATED:20240807T205856Z
LAST-MODIFIED:20251209T213809Z
UID:10006070-1777541400-1777550400@sherbourne.on.ca
SUMMARY:Kit Packing Group
DESCRIPTION:Every week\, our kit packing group makes an average of 500 harm reduction kits to help keep our communities safe. Volunteers who are or were drug users are welcome to share their knowledge and time to make life safer for people who use drugs. All participants will receive a stipend\, TTC fare\, and a takeaway meal\, as well as an opportunity to build community and get support. \nPlease note that sign-up to participate starts at 9:30 a.m. At the moment\, up to five attendees can per packing session.
URL:https://sherbourne.on.ca/calendar/kit-packing-group/2026-04-30/
LOCATION:STASH (Room 1080)
CATEGORIES:Drop-in
ATTACH;FMTTYPE=image/png:https://sherbourne.on.ca/wp-content/uploads/2024/08/6.png
END:VEVENT
BEGIN:VEVENT
DTSTART;TZID=America/Toronto:20260430T093000
DTEND;TZID=America/Toronto:20260430T120000
DTSTAMP:20260425T105106
CREATED:20250404T022337Z
LAST-MODIFIED:20251209T213949Z
UID:10009681-1777541400-1777550400@sherbourne.on.ca
SUMMARY:C4U Drop-In
DESCRIPTION:Connections 4 U Drop-In is for people who are experiencing homelessness\, are underhoused\, or stay in shelters. Access support for reaching goals from system navigators\, on a short-term basis. Self-referrals only.
URL:https://sherbourne.on.ca/calendar/c4u-drop-in-2-2/2026-04-30/
LOCATION:STASH (Room 1080)
CATEGORIES:Drop-in
ATTACH;FMTTYPE=image/png:https://sherbourne.on.ca/wp-content/uploads/2024/08/4.png
END:VEVENT
BEGIN:VEVENT
DTSTART;TZID=America/Toronto:20260430T100000
DTEND;TZID=America/Toronto:20260430T113000
DTSTAMP:20260425T105106
CREATED:20250404T020246Z
LAST-MODIFIED:20251209T214505Z
UID:10001337-1777543200-1777548600@sherbourne.on.ca
SUMMARY:Diabetes Senior Support Group
DESCRIPTION:Join peers\, a Registered Nurse and a Registered Dietitian for chats and support on healthy eating\, exercise\, stress management\, medication and more. \nSessions are on the last Thursday of each month\, from 10 a.m. – 12 p.m. Offered in-person and virtually. \nRegistration required. Contact 416-324-4100 ext 3248 or ext 3252.
URL:https://sherbourne.on.ca/calendar/diabetes-education-and-support-group-3/2026-04-30/
CATEGORIES:Registration Required
ATTACH;FMTTYPE=image/png:https://sherbourne.on.ca/wp-content/uploads/2024/08/Diabetes-Ed-Sup.png
END:VEVENT
END:VCALENDAR